BEGIN:VCALENDAR
VERSION:2.0
PRODID:-//Firefly Gastropub - ECPv6.15.20//NONSGML v1.0//EN
CALSCALE:GREGORIAN
METHOD:PUBLISH
X-ORIGINAL-URL:https://fireflylenox.com
X-WR-CALDESC:Events for Firefly Gastropub
REFRESH-INTERVAL;VALUE=DURATION:PT1H
X-Robots-Tag:noindex
X-PUBLISHED-TTL:PT1H
BEGIN:VTIMEZONE
TZID:America/New_York
BEGIN:DAYLIGHT
TZOFFSETFROM:-0500
TZOFFSETTO:-0400
TZNAME:EDT
DTSTART:20250309T070000
END:DAYLIGHT
BEGIN:STANDARD
TZOFFSETFROM:-0400
TZOFFSETTO:-0500
TZNAME:EST
DTSTART:20251102T060000
END:STANDARD
BEGIN:DAYLIGHT
TZOFFSETFROM:-0500
TZOFFSETTO:-0400
TZNAME:EDT
DTSTART:20260308T070000
END:DAYLIGHT
BEGIN:STANDARD
TZOFFSETFROM:-0400
TZOFFSETTO:-0500
TZNAME:EST
DTSTART:20261101T060000
END:STANDARD
BEGIN:DAYLIGHT
TZOFFSETFROM:-0500
TZOFFSETTO:-0400
TZNAME:EDT
DTSTART:20270314T070000
END:DAYLIGHT
BEGIN:STANDARD
TZOFFSETFROM:-0400
TZOFFSETTO:-0500
TZNAME:EST
DTSTART:20271107T060000
END:STANDARD
END:VTIMEZONE
BEGIN:VEVENT
DTSTART;TZID=America/New_York:20260612T190000
DTEND;TZID=America/New_York:20260612T220000
DTSTAMP:20260420T000122
CREATED:20251023T205736Z
LAST-MODIFIED:20251111T045917Z
UID:10000431-1781290800-1781301600@fireflylenox.com
SUMMARY:Octopus Garden
DESCRIPTION:A Berkshire favorite\, Octopus Garden delivers a faithful and spirited tribute to The Beatles\, featuring the talents of Bob Balawender\, Mark Parsons\, Wayne Tremblay\, Dan Hamilton\, Jay Fruet\, and Jim Stankiewicz. Expect great vibes\, iconic songs\, and sing-along moments all night long.
URL:https://fireflylenox.com/event/octopus-garden/2026-06-12/
LOCATION:MA
CATEGORIES:Live Music
ATTACH;FMTTYPE=image/jpeg:https://fireflylenox.com/wp-content/uploads/Octopus-Garden-Web.jpg
END:VEVENT
END:VCALENDAR