BEGIN:VCALENDAR
VERSION:2.0
PRODID:-//Firefly Gastropub - ECPv6.15.20//NONSGML v1.0//EN
CALSCALE:GREGORIAN
METHOD:PUBLISH
X-ORIGINAL-URL:https://fireflylenox.com
X-WR-CALDESC:Events for Firefly Gastropub
REFRESH-INTERVAL;VALUE=DURATION:PT1H
X-Robots-Tag:noindex
X-PUBLISHED-TTL:PT1H
BEGIN:VTIMEZONE
TZID:America/New_York
BEGIN:DAYLIGHT
TZOFFSETFROM:-0500
TZOFFSETTO:-0400
TZNAME:EDT
DTSTART:20250309T070000
END:DAYLIGHT
BEGIN:STANDARD
TZOFFSETFROM:-0400
TZOFFSETTO:-0500
TZNAME:EST
DTSTART:20251102T060000
END:STANDARD
BEGIN:DAYLIGHT
TZOFFSETFROM:-0500
TZOFFSETTO:-0400
TZNAME:EDT
DTSTART:20260308T070000
END:DAYLIGHT
BEGIN:STANDARD
TZOFFSETFROM:-0400
TZOFFSETTO:-0500
TZNAME:EST
DTSTART:20261101T060000
END:STANDARD
BEGIN:DAYLIGHT
TZOFFSETFROM:-0500
TZOFFSETTO:-0400
TZNAME:EDT
DTSTART:20270314T070000
END:DAYLIGHT
BEGIN:STANDARD
TZOFFSETFROM:-0400
TZOFFSETTO:-0500
TZNAME:EST
DTSTART:20271107T060000
END:STANDARD
END:VTIMEZONE
BEGIN:VEVENT
DTSTART;TZID=America/New_York:20260320T190000
DTEND;TZID=America/New_York:20260320T220000
DTSTAMP:20260419T154327
CREATED:20251023T201014Z
LAST-MODIFIED:20251023T201014Z
UID:10000389-1774033200-1774044000@fireflylenox.com
SUMMARY:Wanda Houston
DESCRIPTION:A Dynamic Quartet Featuring Rhythm\, Blues\, Jazz & Soul from the 30s through the 70s. \nWanda Houston is a professional singer\, actress\, and song stylist who has traveled the stages of the world searching for the perfect song and performance. Her travels brought her to The Berkshires in 2001 where she has continued to “search” in Musical Theatre\, Jazz\, Gospel\, R&B\, Blues\, Folk\, and Rock-‘n-Roll. \nSee what the buzz is all about!
URL:https://fireflylenox.com/event/wanda-houston-15/2026-03-20/
LOCATION:Firefly Gastropub\, 71 Church Street\, Lenox\, MA\, 01240\, United States
CATEGORIES:Live Music
ATTACH;FMTTYPE=image/jpeg:https://fireflylenox.com/wp-content/uploads/Wanda-Houston_16-9.jpg
END:VEVENT
END:VCALENDAR