BEGIN:VCALENDAR
VERSION:2.0
PRODID:-//Firefly Gastropub - ECPv6.15.20//NONSGML v1.0//EN
CALSCALE:GREGORIAN
METHOD:PUBLISH
X-WR-CALNAME:Firefly Gastropub
X-ORIGINAL-URL:https://fireflylenox.com
X-WR-CALDESC:Events for Firefly Gastropub
REFRESH-INTERVAL;VALUE=DURATION:PT1H
X-Robots-Tag:noindex
X-PUBLISHED-TTL:PT1H
BEGIN:VTIMEZONE
TZID:America/New_York
BEGIN:DAYLIGHT
TZOFFSETFROM:-0500
TZOFFSETTO:-0400
TZNAME:EDT
DTSTART:20220313T070000
END:DAYLIGHT
BEGIN:STANDARD
TZOFFSETFROM:-0400
TZOFFSETTO:-0500
TZNAME:EST
DTSTART:20221106T060000
END:STANDARD
BEGIN:DAYLIGHT
TZOFFSETFROM:-0500
TZOFFSETTO:-0400
TZNAME:EDT
DTSTART:20230312T070000
END:DAYLIGHT
BEGIN:STANDARD
TZOFFSETFROM:-0400
TZOFFSETTO:-0500
TZNAME:EST
DTSTART:20231105T060000
END:STANDARD
BEGIN:DAYLIGHT
TZOFFSETFROM:-0500
TZOFFSETTO:-0400
TZNAME:EDT
DTSTART:20240310T070000
END:DAYLIGHT
BEGIN:STANDARD
TZOFFSETFROM:-0400
TZOFFSETTO:-0500
TZNAME:EST
DTSTART:20241103T060000
END:STANDARD
END:VTIMEZONE
BEGIN:VEVENT
DTSTART;TZID=America/New_York:20230505T190000
DTEND;TZID=America/New_York:20230505T220000
DTSTAMP:20260422T042929
CREATED:20230308T055713Z
LAST-MODIFIED:20230323T203426Z
UID:10000143-1683313200-1683324000@fireflylenox.com
SUMMARY:Misty Blues
DESCRIPTION:Band founder and lead singer Gina Coleman entered the music scene in the early ’90s as the lead singer of the folk/rock group Cole-Connection. It wasn’t until 1999\, when she played a gospel singer in the Williamstown Theatre Festival production of A Raisin In The Sun\, that she was steered down the path of blues. \nMisty Blues pays homage to the older blues made popular by the bold and brassy women of its time while still paying respect to classic male artists of the ’20s\, ’30s\, and ’40s. The band hasn’t completely abandoned its musical roots; they have been known to perform classic rock and folk tunes infused with a healthy dose of the blues. Over the years\, Misty Blues has produced ten albums. Today the core members include Gina Coleman\, Seth Fleischmann\, Bill Patriquin\, Ben Kohn\, Rob Tatten\, and Aaron Dean.
URL:https://fireflylenox.com/event/misty-blues-33/2023-05-05/
LOCATION:Firefly Gastropub\, 71 Church Street\, Lenox\, MA\, 01240\, United States
CATEGORIES:Live Music
ATTACH;FMTTYPE=image/jpeg:https://fireflylenox.com/wp-content/uploads/Misty-Blues_Gina_Jan20.jpg
END:VEVENT
END:VCALENDAR