BEGIN:VCALENDAR
VERSION:2.0
PRODID:-//Firefly Gastropub - ECPv6.15.20//NONSGML v1.0//EN
CALSCALE:GREGORIAN
METHOD:PUBLISH
X-WR-CALNAME:Firefly Gastropub
X-ORIGINAL-URL:https://fireflylenox.com
X-WR-CALDESC:Events for Firefly Gastropub
REFRESH-INTERVAL;VALUE=DURATION:PT1H
X-Robots-Tag:noindex
X-PUBLISHED-TTL:PT1H
BEGIN:VTIMEZONE
TZID:America/New_York
BEGIN:DAYLIGHT
TZOFFSETFROM:-0500
TZOFFSETTO:-0400
TZNAME:EDT
DTSTART:20210314T070000
END:DAYLIGHT
BEGIN:STANDARD
TZOFFSETFROM:-0400
TZOFFSETTO:-0500
TZNAME:EST
DTSTART:20211107T060000
END:STANDARD
BEGIN:DAYLIGHT
TZOFFSETFROM:-0500
TZOFFSETTO:-0400
TZNAME:EDT
DTSTART:20220313T070000
END:DAYLIGHT
BEGIN:STANDARD
TZOFFSETFROM:-0400
TZOFFSETTO:-0500
TZNAME:EST
DTSTART:20221106T060000
END:STANDARD
BEGIN:DAYLIGHT
TZOFFSETFROM:-0500
TZOFFSETTO:-0400
TZNAME:EDT
DTSTART:20230312T070000
END:DAYLIGHT
BEGIN:STANDARD
TZOFFSETFROM:-0400
TZOFFSETTO:-0500
TZNAME:EST
DTSTART:20231105T060000
END:STANDARD
END:VTIMEZONE
BEGIN:VEVENT
DTSTART;TZID=America/New_York:20220319T190000
DTEND;TZID=America/New_York:20220319T220000
DTSTAMP:20260423T022141
CREATED:20220304T140235Z
LAST-MODIFIED:20220331T221647Z
UID:10000080-1647716400-1647727200@fireflylenox.com
SUMMARY:Wanda Houston
DESCRIPTION:A Dynamic Quartet Featuring Rhythm\, Blues\, Jazz & Soul from the 30s through the 70s. \nWanda Houston is a professional singer\, actress\, and song stylist who has traveled the stages of the world searching for the perfect song and performance. Her travels brought her to The Berkshires in 2001 where she has continued to “search” in Musical Theatre\, Jazz\, Gospel\, R&B\, Blues\, Folk\, and Rock-‘n-Roll. \nSee what the buzz is all about!
URL:https://fireflylenox.com/event/wanda-houston/
LOCATION:Firefly Gastropub\, 71 Church Street\, Lenox\, MA\, 01240\, United States
CATEGORIES:Live Music
ATTACH;FMTTYPE=image/jpeg:https://fireflylenox.com/wp-content/uploads/Wanda-Houston_16-9.jpg
END:VEVENT
END:VCALENDAR