BEGIN:VCALENDAR
VERSION:2.0
PRODID:-//Firefly Gastropub - ECPv6.15.20//NONSGML v1.0//EN
CALSCALE:GREGORIAN
METHOD:PUBLISH
X-WR-CALNAME:Firefly Gastropub
X-ORIGINAL-URL:https://fireflylenox.com
X-WR-CALDESC:Events for Firefly Gastropub
REFRESH-INTERVAL;VALUE=DURATION:PT1H
X-Robots-Tag:noindex
X-PUBLISHED-TTL:PT1H
BEGIN:VTIMEZONE
TZID:America/New_York
BEGIN:DAYLIGHT
TZOFFSETFROM:-0500
TZOFFSETTO:-0400
TZNAME:EDT
DTSTART:20210314T070000
END:DAYLIGHT
BEGIN:STANDARD
TZOFFSETFROM:-0400
TZOFFSETTO:-0500
TZNAME:EST
DTSTART:20211107T060000
END:STANDARD
BEGIN:DAYLIGHT
TZOFFSETFROM:-0500
TZOFFSETTO:-0400
TZNAME:EDT
DTSTART:20220313T070000
END:DAYLIGHT
BEGIN:STANDARD
TZOFFSETFROM:-0400
TZOFFSETTO:-0500
TZNAME:EST
DTSTART:20221106T060000
END:STANDARD
BEGIN:DAYLIGHT
TZOFFSETFROM:-0500
TZOFFSETTO:-0400
TZNAME:EDT
DTSTART:20230312T070000
END:DAYLIGHT
BEGIN:STANDARD
TZOFFSETFROM:-0400
TZOFFSETTO:-0500
TZNAME:EST
DTSTART:20231105T060000
END:STANDARD
END:VTIMEZONE
BEGIN:VEVENT
DTSTART;TZID=America/New_York:20220122T190000
DTEND;TZID=America/New_York:20220122T220000
DTSTAMP:20260423T052633
CREATED:20211216T043708Z
LAST-MODIFIED:20220331T230340Z
UID:10000049-1642878000-1642888800@fireflylenox.com
SUMMARY:Hot Sauce
DESCRIPTION:Top off your Saturday night with groove and funk spins on the classics with Hot Sauce. Join us on the dance floor or just enjoy listening to our takes on Stevie Wonder\, Marvin Gaye\, John Scofield\, and more! \nLet’s groove!
URL:https://fireflylenox.com/event/hot-sauce/
LOCATION:Firefly Gastropub\, 71 Church Street\, Lenox\, MA\, 01240\, United States
CATEGORIES:Live Music
ATTACH;FMTTYPE=image/jpeg:https://fireflylenox.com/wp-content/uploads/HotSauce_16-9.jpg
END:VEVENT
END:VCALENDAR