BEGIN:VCALENDAR
VERSION:2.0
PRODID:-//Firefly Gastropub - ECPv6.15.20//NONSGML v1.0//EN
CALSCALE:GREGORIAN
METHOD:PUBLISH
X-WR-CALNAME:Firefly Gastropub
X-ORIGINAL-URL:https://fireflylenox.com
X-WR-CALDESC:Events for Firefly Gastropub
REFRESH-INTERVAL;VALUE=DURATION:PT1H
X-Robots-Tag:noindex
X-PUBLISHED-TTL:PT1H
BEGIN:VTIMEZONE
TZID:America/New_York
BEGIN:DAYLIGHT
TZOFFSETFROM:-0500
TZOFFSETTO:-0400
TZNAME:EDT
DTSTART:20230312T070000
END:DAYLIGHT
BEGIN:STANDARD
TZOFFSETFROM:-0400
TZOFFSETTO:-0500
TZNAME:EST
DTSTART:20231105T060000
END:STANDARD
BEGIN:DAYLIGHT
TZOFFSETFROM:-0500
TZOFFSETTO:-0400
TZNAME:EDT
DTSTART:20240310T070000
END:DAYLIGHT
BEGIN:STANDARD
TZOFFSETFROM:-0400
TZOFFSETTO:-0500
TZNAME:EST
DTSTART:20241103T060000
END:STANDARD
BEGIN:DAYLIGHT
TZOFFSETFROM:-0500
TZOFFSETTO:-0400
TZNAME:EDT
DTSTART:20250309T070000
END:DAYLIGHT
BEGIN:STANDARD
TZOFFSETFROM:-0400
TZOFFSETTO:-0500
TZNAME:EST
DTSTART:20251102T060000
END:STANDARD
END:VTIMEZONE
BEGIN:VEVENT
DTSTART;TZID=America/New_York:20241206T190000
DTEND;TZID=America/New_York:20241206T220000
DTSTAMP:20260420T183122
CREATED:20241022T221911Z
LAST-MODIFIED:20251023T201708Z
UID:10000277-1733511600-1733522400@fireflylenox.com
SUMMARY:The BTU*s
DESCRIPTION:Berkshire County’s favorite rock-jazz-blues band! \nIt’s been said that the BTUs “rock the blues—there’s no better way to say it! Their soulful vocals and killer guitar point the way to solid grooves connecting the band to the audience and making everyone feel the blues’ powerful vibration together.” We have to say we agree! \nThis Berkshire institution includes Steve Ide\, Bob MacVeety\, Rob Putnam\, and Conor Meehan—all of whom know how to rock the house! \nJoin us and get your groove on!
URL:https://fireflylenox.com/event/the-btus-3-2-2/2024-12-06/
LOCATION:Firefly Gastropub\, 71 Church Street\, Lenox\, MA\, 01240\, United States
CATEGORIES:Live Music
ATTACH;FMTTYPE=image/jpeg:https://fireflylenox.com/wp-content/uploads/BTUs_16-9.jpg
END:VEVENT
BEGIN:VEVENT
DTSTART;TZID=America/New_York:20241213T190000
DTEND;TZID=America/New_York:20241213T220000
DTSTAMP:20260420T183122
CREATED:20241022T223310Z
LAST-MODIFIED:20241022T223547Z
UID:10000283-1734116400-1734127200@fireflylenox.com
SUMMARY:Mr. Doubtfire
DESCRIPTION:This high-energy\, Berkshire-based band rocks everything that they play\, from the classics to contemporary! \nGet on your feet and let go of the week!
URL:https://fireflylenox.com/event/misty-blues-34-2/2024-12-13/
LOCATION:Firefly Gastropub\, 71 Church Street\, Lenox\, MA\, 01240\, United States
CATEGORIES:Live Music
ATTACH;FMTTYPE=image/jpeg:https://fireflylenox.com/wp-content/uploads/MrDoubtfire_16-9.jpg
END:VEVENT
BEGIN:VEVENT
DTSTART;TZID=America/New_York:20241220T190000
DTEND;TZID=America/New_York:20241220T220000
DTSTAMP:20260420T183122
CREATED:20241022T224019Z
LAST-MODIFIED:20241119T223709Z
UID:10000342-1734721200-1734732000@fireflylenox.com
SUMMARY:Amy Ryan Band
DESCRIPTION:The perfect blend of Country Blues mojo and urban blues and rock! \nWhen guitarist Richard Green heard Amy Ryan’s solo performances in New York’s Capital Region\, he saw an opportunity to combine his own blues guitar chops with a gusty female singer and the potential to create a great blues band. An early iteration of a group came together quickly. The musical experiment was successful enough that the Amy Ryan Band was soon born. \nMelding together Amy’s country blues mojo with Richard’s urban blues and rock sensibilities\, this musical partnership is rounded out by the addition of bassist Steve Dietemann\, drummer Al Bauman and Ed Stein on keyboards\, all of whom contribute greatly to the success of the band with their own experiences with jazz\, funk\, and rock. \nWith a repertoire that includes band adaptations of Amy’s self-penned solo tunes\, newly minted originals\, and select covers\, the Amy Ryan Band rocks the blues!
URL:https://fireflylenox.com/event/amy-ryan-band-15-2/2024-12-20/
LOCATION:Firefly Gastropub\, 71 Church Street\, Lenox\, MA\, 01240\, United States
CATEGORIES:Live Music
ATTACH;FMTTYPE=image/jpeg:https://fireflylenox.com/wp-content/uploads/amy-ryan-band-.jpeg
END:VEVENT
BEGIN:VEVENT
DTSTART;TZID=America/New_York:20241227T190000
DTEND;TZID=America/New_York:20241227T220000
DTSTAMP:20260420T183122
CREATED:20241022T224913Z
LAST-MODIFIED:20250313T185017Z
UID:10000360-1735326000-1735336800@fireflylenox.com
SUMMARY:Wanda Houston
DESCRIPTION:A Dynamic Quartet Featuring Rhythm\, Blues\, Jazz & Soul from the 30s through the 70s. \nWanda Houston is a professional singer\, actress\, and song stylist who has traveled the stages of the world searching for the perfect song and performance. Her travels brought her to The Berkshires in 2001 where she has continued to “search” in Musical Theatre\, Jazz\, Gospel\, R&B\, Blues\, Folk\, and Rock-‘n-Roll. \nSee what the buzz is all about!
URL:https://fireflylenox.com/event/wanda-houston-12-2-3/2024-12-27/
LOCATION:Firefly Gastropub\, 71 Church Street\, Lenox\, MA\, 01240\, United States
CATEGORIES:Live Music
ATTACH;FMTTYPE=image/jpeg:https://fireflylenox.com/wp-content/uploads/Wanda-Houston_16-9.jpg
END:VEVENT
END:VCALENDAR