BEGIN:VCALENDAR
VERSION:2.0
PRODID:-//Firefly Gastropub - ECPv6.15.20//NONSGML v1.0//EN
CALSCALE:GREGORIAN
METHOD:PUBLISH
X-WR-CALNAME:Firefly Gastropub
X-ORIGINAL-URL:https://fireflylenox.com
X-WR-CALDESC:Events for Firefly Gastropub
REFRESH-INTERVAL;VALUE=DURATION:PT1H
X-Robots-Tag:noindex
X-PUBLISHED-TTL:PT1H
BEGIN:VTIMEZONE
TZID:America/New_York
BEGIN:DAYLIGHT
TZOFFSETFROM:-0500
TZOFFSETTO:-0400
TZNAME:EDT
DTSTART:20220313T070000
END:DAYLIGHT
BEGIN:STANDARD
TZOFFSETFROM:-0400
TZOFFSETTO:-0500
TZNAME:EST
DTSTART:20221106T060000
END:STANDARD
BEGIN:DAYLIGHT
TZOFFSETFROM:-0500
TZOFFSETTO:-0400
TZNAME:EDT
DTSTART:20230312T070000
END:DAYLIGHT
BEGIN:STANDARD
TZOFFSETFROM:-0400
TZOFFSETTO:-0500
TZNAME:EST
DTSTART:20231105T060000
END:STANDARD
BEGIN:DAYLIGHT
TZOFFSETFROM:-0500
TZOFFSETTO:-0400
TZNAME:EDT
DTSTART:20240310T070000
END:DAYLIGHT
BEGIN:STANDARD
TZOFFSETFROM:-0400
TZOFFSETTO:-0500
TZNAME:EST
DTSTART:20241103T060000
END:STANDARD
END:VTIMEZONE
BEGIN:VEVENT
DTSTART;TZID=America/New_York:20230310T080000
DTEND;TZID=America/New_York:20230310T170000
DTSTAMP:20260422T061035
CREATED:20230308T055713Z
LAST-MODIFIED:20230323T203426Z
UID:10000240-1678435200-1678467600@fireflylenox.com
SUMMARY:Misty Blues
DESCRIPTION:Band founder and lead singer Gina Coleman entered the music scene in the early ’90s as the lead singer of the folk/rock group Cole-Connection. It wasn’t until 1999\, when she played a gospel singer in the Williamstown Theatre Festival production of A Raisin In The Sun\, that she was steered down the path of blues. \nMisty Blues pays homage to the older blues made popular by the bold and brassy women of its time while still paying respect to classic male artists of the ’20s\, ’30s\, and ’40s. The band hasn’t completely abandoned its musical roots; they have been known to perform classic rock and folk tunes infused with a healthy dose of the blues. Over the years\, Misty Blues has produced ten albums. Today the core members include Gina Coleman\, Seth Fleischmann\, Bill Patriquin\, Ben Kohn\, Rob Tatten\, and Aaron Dean.
URL:https://fireflylenox.com/event/misty-blues-33/2023-03-10/1/
LOCATION:Firefly Gastropub\, 71 Church Street\, Lenox\, MA\, 01240\, United States
CATEGORIES:Live Music
ATTACH;FMTTYPE=image/jpeg:https://fireflylenox.com/wp-content/uploads/Misty-Blues_Gina_Jan20.jpg
END:VEVENT
BEGIN:VEVENT
DTSTART;TZID=America/New_York:20230310T190000
DTEND;TZID=America/New_York:20230310T220000
DTSTAMP:20260422T061035
CREATED:20230308T055713Z
LAST-MODIFIED:20230323T203426Z
UID:10000135-1678474800-1678485600@fireflylenox.com
SUMMARY:Misty Blues
DESCRIPTION:Band founder and lead singer Gina Coleman entered the music scene in the early ’90s as the lead singer of the folk/rock group Cole-Connection. It wasn’t until 1999\, when she played a gospel singer in the Williamstown Theatre Festival production of A Raisin In The Sun\, that she was steered down the path of blues. \nMisty Blues pays homage to the older blues made popular by the bold and brassy women of its time while still paying respect to classic male artists of the ’20s\, ’30s\, and ’40s. The band hasn’t completely abandoned its musical roots; they have been known to perform classic rock and folk tunes infused with a healthy dose of the blues. Over the years\, Misty Blues has produced ten albums. Today the core members include Gina Coleman\, Seth Fleischmann\, Bill Patriquin\, Ben Kohn\, Rob Tatten\, and Aaron Dean.
URL:https://fireflylenox.com/event/misty-blues-33/2023-03-10/2/
LOCATION:Firefly Gastropub\, 71 Church Street\, Lenox\, MA\, 01240\, United States
CATEGORIES:Live Music
ATTACH;FMTTYPE=image/jpeg:https://fireflylenox.com/wp-content/uploads/Misty-Blues_Gina_Jan20.jpg
END:VEVENT
BEGIN:VEVENT
DTSTART;TZID=America/New_York:20230317T190000
DTEND;TZID=America/New_York:20230317T220000
DTSTAMP:20260422T061035
CREATED:20230308T055713Z
LAST-MODIFIED:20230323T203426Z
UID:10000136-1679079600-1679090400@fireflylenox.com
SUMMARY:Misty Blues
DESCRIPTION:Band founder and lead singer Gina Coleman entered the music scene in the early ’90s as the lead singer of the folk/rock group Cole-Connection. It wasn’t until 1999\, when she played a gospel singer in the Williamstown Theatre Festival production of A Raisin In The Sun\, that she was steered down the path of blues. \nMisty Blues pays homage to the older blues made popular by the bold and brassy women of its time while still paying respect to classic male artists of the ’20s\, ’30s\, and ’40s. The band hasn’t completely abandoned its musical roots; they have been known to perform classic rock and folk tunes infused with a healthy dose of the blues. Over the years\, Misty Blues has produced ten albums. Today the core members include Gina Coleman\, Seth Fleischmann\, Bill Patriquin\, Ben Kohn\, Rob Tatten\, and Aaron Dean.
URL:https://fireflylenox.com/event/misty-blues-33/2023-03-17/
LOCATION:Firefly Gastropub\, 71 Church Street\, Lenox\, MA\, 01240\, United States
CATEGORIES:Live Music
ATTACH;FMTTYPE=image/jpeg:https://fireflylenox.com/wp-content/uploads/Misty-Blues_Gina_Jan20.jpg
END:VEVENT
BEGIN:VEVENT
DTSTART;TZID=America/New_York:20230318T190000
DTEND;TZID=America/New_York:20230318T220000
DTSTAMP:20260422T061035
CREATED:20230308T063258Z
LAST-MODIFIED:20230323T203921Z
UID:10000214-1679166000-1679176800@fireflylenox.com
SUMMARY:Wanda Houston
DESCRIPTION:A Dynamic Quartet Featuring Rhythm\, Blues\, Jazz & Soul from the 30s through the 70s. \nWanda Houston is a professional singer\, actress\, and song stylist who has traveled the stages of the world searching for the perfect song and performance. Her travels brought her to The Berkshires in 2001 where she has continued to “search” in Musical Theatre\, Jazz\, Gospel\, R&B\, Blues\, Folk\, and Rock-‘n-Roll. \nSee what the buzz is all about!
URL:https://fireflylenox.com/event/wanda-houston-12/2023-03-18/
LOCATION:Firefly Gastropub\, 71 Church Street\, Lenox\, MA\, 01240\, United States
CATEGORIES:Live Music
ATTACH;FMTTYPE=image/jpeg:https://fireflylenox.com/wp-content/uploads/Wanda-Houston_16-9.jpg
END:VEVENT
BEGIN:VEVENT
DTSTART;TZID=America/New_York:20230331T190000
DTEND;TZID=America/New_York:20230331T220000
DTSTAMP:20260422T061035
CREATED:20230308T055713Z
LAST-MODIFIED:20230323T203426Z
UID:10000138-1680289200-1680300000@fireflylenox.com
SUMMARY:Misty Blues
DESCRIPTION:Band founder and lead singer Gina Coleman entered the music scene in the early ’90s as the lead singer of the folk/rock group Cole-Connection. It wasn’t until 1999\, when she played a gospel singer in the Williamstown Theatre Festival production of A Raisin In The Sun\, that she was steered down the path of blues. \nMisty Blues pays homage to the older blues made popular by the bold and brassy women of its time while still paying respect to classic male artists of the ’20s\, ’30s\, and ’40s. The band hasn’t completely abandoned its musical roots; they have been known to perform classic rock and folk tunes infused with a healthy dose of the blues. Over the years\, Misty Blues has produced ten albums. Today the core members include Gina Coleman\, Seth Fleischmann\, Bill Patriquin\, Ben Kohn\, Rob Tatten\, and Aaron Dean.
URL:https://fireflylenox.com/event/misty-blues-33/2023-03-31/
LOCATION:Firefly Gastropub\, 71 Church Street\, Lenox\, MA\, 01240\, United States
CATEGORIES:Live Music
ATTACH;FMTTYPE=image/jpeg:https://fireflylenox.com/wp-content/uploads/Misty-Blues_Gina_Jan20.jpg
END:VEVENT
END:VCALENDAR