BEGIN:VCALENDAR
VERSION:2.0
PRODID:-//Firefly Gastropub - ECPv6.15.20//NONSGML v1.0//EN
CALSCALE:GREGORIAN
METHOD:PUBLISH
X-WR-CALNAME:Firefly Gastropub
X-ORIGINAL-URL:https://fireflylenox.com
X-WR-CALDESC:Events for Firefly Gastropub
REFRESH-INTERVAL;VALUE=DURATION:PT1H
X-Robots-Tag:noindex
X-PUBLISHED-TTL:PT1H
BEGIN:VTIMEZONE
TZID:America/New_York
BEGIN:DAYLIGHT
TZOFFSETFROM:-0500
TZOFFSETTO:-0400
TZNAME:EDT
DTSTART:20210314T070000
END:DAYLIGHT
BEGIN:STANDARD
TZOFFSETFROM:-0400
TZOFFSETTO:-0500
TZNAME:EST
DTSTART:20211107T060000
END:STANDARD
BEGIN:DAYLIGHT
TZOFFSETFROM:-0500
TZOFFSETTO:-0400
TZNAME:EDT
DTSTART:20220313T070000
END:DAYLIGHT
BEGIN:STANDARD
TZOFFSETFROM:-0400
TZOFFSETTO:-0500
TZNAME:EST
DTSTART:20221106T060000
END:STANDARD
BEGIN:DAYLIGHT
TZOFFSETFROM:-0500
TZOFFSETTO:-0400
TZNAME:EDT
DTSTART:20230312T070000
END:DAYLIGHT
BEGIN:STANDARD
TZOFFSETFROM:-0400
TZOFFSETTO:-0500
TZNAME:EST
DTSTART:20231105T060000
END:STANDARD
END:VTIMEZONE
BEGIN:VEVENT
DTSTART;TZID=America/New_York:20220805T190000
DTEND;TZID=America/New_York:20220805T220000
DTSTAMP:20260422T173513
CREATED:20220803T140133Z
LAST-MODIFIED:20230512T004727Z
UID:10000097-1659726000-1659736800@fireflylenox.com
SUMMARY:Benny Kohn & Friends
DESCRIPTION:End your week with a mix of new and familiar faces with Ben Kohn and friends. Their groovy musical styles will start your weekend off on the right foot!
URL:https://fireflylenox.com/event/ben-kohn-and-friends/2022-08-05/
LOCATION:Firefly Gastropub\, 71 Church Street\, Lenox\, MA\, 01240\, United States
CATEGORIES:Live Music
ATTACH;FMTTYPE=image/png:https://fireflylenox.com/wp-content/uploads/Screen-Shot-2022-08-03-at-9.27.14-AM.png
END:VEVENT
BEGIN:VEVENT
DTSTART;TZID=America/New_York:20220806T190000
DTEND;TZID=America/New_York:20220806T220000
DTSTAMP:20260422T173513
CREATED:20220720T125334Z
LAST-MODIFIED:20220720T125744Z
UID:10000013-1659812400-1659823200@fireflylenox.com
SUMMARY:BTU*S
DESCRIPTION:Berkshire County’s favorite rock-jazz-blues band! \nIt’s been said that the BTUs “rock the blues—there’s no better way to say it! Their soulful vocals and killer guitar point the way to solid grooves that connect the band to the audience and make everyone feel the powerful vibration of the blues together.” We have to say we agree! \nThis Berkshire institution includes Steve Ide\, Bob MacVeety\, Rob Putnam\, and Conor Meehan—all of whom know how to rock the house! \nJoin us and get your groove on!
URL:https://fireflylenox.com/event/hot-sauce-7/
LOCATION:Firefly Gastropub\, 71 Church Street\, Lenox\, MA\, 01240\, United States
CATEGORIES:Live Music
ATTACH;FMTTYPE=image/jpeg:https://fireflylenox.com/wp-content/uploads/BTUs_feature.jpg
END:VEVENT
BEGIN:VEVENT
DTSTART;TZID=America/New_York:20220812T190000
DTEND;TZID=America/New_York:20220812T220000
DTSTAMP:20260422T173513
CREATED:20220720T125956Z
LAST-MODIFIED:20220720T125956Z
UID:10000014-1660330800-1660341600@fireflylenox.com
SUMMARY:Misty Blues
DESCRIPTION:Band founder and lead singer\, Gina Coleman\, entered the music scene in the early ’90s as the lead singer of the folk/rock group Cole-Connection. It wasn’t until 1999 when she played a gospel singer in the Williamstown Theatre Festival production of A Raisin In The Sun that she was steered down the path of blues. \nMisty Blues pays homage to the older blues made popular by the bold and brassy women of its time\, while still paying respect to classic male artists of the ’20s\, ’30s\, and ’40s. The band hasn’t completely abandoned their musical roots; they have been known to perform classic rock and folk tunes infused with a healthy dose of the blues. Over the years\, Misty Blues has produced ten albums. Today the core members include Gina Coleman\, Seth Fleischmann\, Bill Patriquin\, Ben Kohn\, Rob Tatten\, and Aaron Dean.
URL:https://fireflylenox.com/event/misty-blues-9/
LOCATION:Firefly Gastropub\, 71 Church Street\, Lenox\, MA\, 01240\, United States
CATEGORIES:Live Music
ATTACH;FMTTYPE=image/jpeg:https://fireflylenox.com/wp-content/uploads/Misty-Blues_16-9.jpg
END:VEVENT
BEGIN:VEVENT
DTSTART;TZID=America/New_York:20220813T190000
DTEND;TZID=America/New_York:20220813T220000
DTSTAMP:20260422T173513
CREATED:20220720T130326Z
LAST-MODIFIED:20220720T130326Z
UID:10000015-1660417200-1660428000@fireflylenox.com
SUMMARY:Amy Ryan Band
DESCRIPTION:The perfect blend of Country Blues mojo and urban blues and rock! \nWhen guitarist Richard Green heard Amy Ryan’s solo performances in New York’s Capital Region\, he saw an opportunity to combine his own blues guitar chops with a gusty female singer and the potential to create a great blues band. An early iteration of a group came together quickly the musical experiment was successful enough that the Amy Ryan Band was soon born. \nMelding together Amy’s country blues mojo with Richards urban blues and rock sensibilities\, this musical partnership is rounded out by the addition of bassist Steve Dietemann\, drummer Al Bauman and Ed Stein on keyboards\, all of whom contribute greatly to the success of the band with their own experiences with jazz\, funk\, and rock. \nWith a repertoire that includes band adaptations of Amy’s self-penned solo tunes\, newly minted originals\, and select covers\, the Amy Ryan Band rocks the blues!
URL:https://fireflylenox.com/event/amy-ryan/
LOCATION:Firefly Gastropub\, 71 Church Street\, Lenox\, MA\, 01240\, United States
CATEGORIES:Live Music
ATTACH;FMTTYPE=image/jpeg:https://fireflylenox.com/wp-content/uploads/amy-ryan-band-.jpeg
END:VEVENT
BEGIN:VEVENT
DTSTART;TZID=America/New_York:20220819T190000
DTEND;TZID=America/New_York:20220819T220000
DTSTAMP:20260422T173513
CREATED:20220720T130556Z
LAST-MODIFIED:20220720T130556Z
UID:10000016-1660935600-1660946400@fireflylenox.com
SUMMARY:Misty Blues
DESCRIPTION:Band founder and lead singer\, Gina Coleman\, entered the music scene in the early ’90s as the lead singer of the folk/rock group Cole-Connection. It wasn’t until 1999 when she played a gospel singer in the Williamstown Theatre Festival production of A Raisin In The Sun that she was steered down the path of blues. \nMisty Blues pays homage to the older blues made popular by the bold and brassy women of its time\, while still paying respect to classic male artists of the ’20s\, ’30s\, and ’40s. The band hasn’t completely abandoned their musical roots; they have been known to perform classic rock and folk tunes infused with a healthy dose of the blues. Over the years\, Misty Blues has produced ten albums. Today the core members include Gina Coleman\, Seth Fleischmann\, Bill Patriquin\, Ben Kohn\, Rob Tatten\, and Aaron Dean.
URL:https://fireflylenox.com/event/misty-blues-10/
LOCATION:Firefly Gastropub\, 71 Church Street\, Lenox\, MA\, 01240\, United States
CATEGORIES:Live Music
ATTACH;FMTTYPE=image/jpeg:https://fireflylenox.com/wp-content/uploads/Misty-Blues_16-9.jpg
END:VEVENT
BEGIN:VEVENT
DTSTART;TZID=America/New_York:20220826T190000
DTEND;TZID=America/New_York:20220826T220000
DTSTAMP:20260422T173513
CREATED:20220720T130832Z
LAST-MODIFIED:20220720T130832Z
UID:10000017-1661540400-1661551200@fireflylenox.com
SUMMARY:Misty Blues
DESCRIPTION:Band founder and lead singer\, Gina Coleman\, entered the music scene in the early ’90s as the lead singer of the folk/rock group Cole-Connection. It wasn’t until 1999 when she played a gospel singer in the Williamstown Theatre Festival production of A Raisin In The Sun that she was steered down the path of blues. \nMisty Blues pays homage to the older blues made popular by the bold and brassy women of its time\, while still paying respect to classic male artists of the ’20s\, ’30s\, and ’40s. The band hasn’t completely abandoned their musical roots; they have been known to perform classic rock and folk tunes infused with a healthy dose of the blues. Over the years\, Misty Blues has produced ten albums. Today the core members include Gina Coleman\, Seth Fleischmann\, Bill Patriquin\, Ben Kohn\, Rob Tatten\, and Aaron Dean.
URL:https://fireflylenox.com/event/misty-blues-11/
LOCATION:Firefly Gastropub\, 71 Church Street\, Lenox\, MA\, 01240\, United States
CATEGORIES:Live Music
ATTACH;FMTTYPE=image/jpeg:https://fireflylenox.com/wp-content/uploads/Misty-Blues_16-9.jpg
END:VEVENT
BEGIN:VEVENT
DTSTART;TZID=America/New_York:20220827T080000
DTEND;TZID=America/New_York:20220827T170000
DTSTAMP:20260422T173513
CREATED:20220720T131016Z
LAST-MODIFIED:20220720T131016Z
UID:10000096-1661587200-1661619600@fireflylenox.com
SUMMARY:Hot Sauce
DESCRIPTION:Top off your Saturday night with groove and funk spins on the classics with Hot Sauce. Join us on the dance floor or just enjoy listening to our takes on Stevie Wonder\, Marvin Gaye\, John Scofield\, and more! \nLet’s groove!
URL:https://fireflylenox.com/event/hot-sauce-8/
LOCATION:Firefly Gastropub\, 71 Church Street\, Lenox\, MA\, 01240\, United States
CATEGORIES:Live Music
ATTACH;FMTTYPE=image/jpeg:https://fireflylenox.com/wp-content/uploads/hot-sauce-update-photo__-e1650466475846.jpeg
END:VEVENT
END:VCALENDAR