BEGIN:VCALENDAR
VERSION:2.0
PRODID:-//Firefly Gastropub - ECPv6.15.20//NONSGML v1.0//EN
CALSCALE:GREGORIAN
METHOD:PUBLISH
X-ORIGINAL-URL:https://fireflylenox.com
X-WR-CALDESC:Events for Firefly Gastropub
REFRESH-INTERVAL;VALUE=DURATION:PT1H
X-Robots-Tag:noindex
X-PUBLISHED-TTL:PT1H
BEGIN:VTIMEZONE
TZID:America/New_York
BEGIN:DAYLIGHT
TZOFFSETFROM:-0500
TZOFFSETTO:-0400
TZNAME:EDT
DTSTART:20210314T070000
END:DAYLIGHT
BEGIN:STANDARD
TZOFFSETFROM:-0400
TZOFFSETTO:-0500
TZNAME:EST
DTSTART:20211107T060000
END:STANDARD
BEGIN:DAYLIGHT
TZOFFSETFROM:-0500
TZOFFSETTO:-0400
TZNAME:EDT
DTSTART:20220313T070000
END:DAYLIGHT
BEGIN:STANDARD
TZOFFSETFROM:-0400
TZOFFSETTO:-0500
TZNAME:EST
DTSTART:20221106T060000
END:STANDARD
BEGIN:DAYLIGHT
TZOFFSETFROM:-0500
TZOFFSETTO:-0400
TZNAME:EDT
DTSTART:20230312T070000
END:DAYLIGHT
BEGIN:STANDARD
TZOFFSETFROM:-0400
TZOFFSETTO:-0500
TZNAME:EST
DTSTART:20231105T060000
END:STANDARD
END:VTIMEZONE
BEGIN:VEVENT
DTSTART;TZID=America/New_York:20220603T080000
DTEND;TZID=America/New_York:20220603T170000
DTSTAMP:20260422T203833
CREATED:20220603T220851Z
LAST-MODIFIED:20220604T125015Z
UID:10000006-1654243200-1654275600@fireflylenox.com
SUMMARY:BTU*S
DESCRIPTION:Berkshire County’s favorite rock-jazz-blues band! \nIt’s been said that the BTUs “rock the blues—there’s no better way to say it! Their soulful vocals and killer guitar point the way to solid grooves that connect the band to the audience and make everyone feel the powerful vibration of the blues together.” We have to say we agree! \nThis Berkshire institution includes Steve Ide\, Bob MacVeety\, Rob Putnam\, and Conor Meehan—all of whom know how to rock the house! \nJoin us and get your groove on!
URL:https://fireflylenox.com/event/btus-4/
CATEGORIES:Live Music
ATTACH;FMTTYPE=image/jpeg:https://fireflylenox.com/wp-content/uploads/BTUs_feature.jpg
END:VEVENT
BEGIN:VEVENT
DTSTART;TZID=America/New_York:20220603T190000
DTEND;TZID=America/New_York:20220603T220000
DTSTAMP:20260422T203833
CREATED:20220603T215840Z
LAST-MODIFIED:20220603T220630Z
UID:10000005-1654282800-1654293600@fireflylenox.com
SUMMARY:Misty Blues Band
DESCRIPTION:Band founder and lead singer\, Gina Coleman\, entered the music scene in the early ’90s as the lead singer of the folk/rock group Cole-Connection. It wasn’t until 1999 when she played a gospel singer in the Williamstown Theatre Festival production of A Raisin In The Sun that she was steered down the path of blues. \nMisty Blues pays homage to the older blues made popular by the bold and brassy women of its time\, while still paying respect to classic male artists of the ’20s\, ’30s\, and ’40s. The band hasn’t completely abandoned their musical roots; they have been known to perform classic rock and folk tunes infused with a healthy dose of the blues. Over the years\, Misty Blues has produced ten albums. Today the core members include Gina Coleman\, Seth Fleischmann\, Bill Patriquin\, Ben Kohn\, Rob Tatten\, and Aaron Dean.
URL:https://fireflylenox.com/event/the-misty-blues-band-11/
LOCATION:Firefly Gastropub\, 71 Church Street\, Lenox\, MA\, 01240\, United States
CATEGORIES:Live Music
ATTACH;FMTTYPE=image/jpeg:https://fireflylenox.com/wp-content/uploads/Misty-Blues_Gina_Jan20.jpg
END:VEVENT
BEGIN:VEVENT
DTSTART;TZID=America/New_York:20220604T190000
DTEND;TZID=America/New_York:20220604T220000
DTSTAMP:20260422T203833
CREATED:20220603T222428Z
LAST-MODIFIED:20220604T140800Z
UID:10000010-1654369200-1654380000@fireflylenox.com
SUMMARY:BTU*s
DESCRIPTION:Berkshire County’s favorite rock-jazz-blues band! \nIt’s been said that the BTUs “rock the blues—there’s no better way to say it! Their soulful vocals and killer guitar point the way to solid grooves that connect the band to the audience and make everyone feel the powerful vibration of the blues together.” We have to say we agree! \nThis Berkshire institution includes Steve Ide\, Bob MacVeety\, Rob Putnam\, and Conor Meehan—all of whom know how to rock the house! \nJoin us and get your groove on!
URL:https://fireflylenox.com/event/btus-5/
LOCATION:Firefly Gastropub\, 71 Church Street\, Lenox\, MA\, 01240\, United States
CATEGORIES:Live Music
ATTACH;FMTTYPE=image/jpeg:https://fireflylenox.com/wp-content/uploads/BTUs_feature.jpg
END:VEVENT
BEGIN:VEVENT
DTSTART;TZID=America/New_York:20220610T190000
DTEND;TZID=America/New_York:20220610T220000
DTSTAMP:20260422T203833
CREATED:20220604T141017Z
LAST-MODIFIED:20220604T141200Z
UID:10000086-1654887600-1654898400@fireflylenox.com
SUMMARY:Misty Blues
DESCRIPTION:Band founder and lead singer\, Gina Coleman\, entered the music scene in the early ’90s as the lead singer of the folk/rock group Cole-Connection. It wasn’t until 1999 when she played a gospel singer in the Williamstown Theatre Festival production of A Raisin In The Sun that she was steered down the path of blues. \nMisty Blues pays homage to the older blues made popular by the bold and brassy women of its time\, while still paying respect to classic male artists of the ’20s\, ’30s\, and ’40s. The band hasn’t completely abandoned their musical roots; they have been known to perform classic rock and folk tunes infused with a healthy dose of the blues. Over the years\, Misty Blues has produced ten albums. Today the core members include Gina Coleman\, Seth Fleischmann\, Bill Patriquin\, Ben Kohn\, Rob Tatten\, and Aaron Dean.
URL:https://fireflylenox.com/event/misty-blues-2/
LOCATION:Firefly Gastropub\, 71 Church Street\, Lenox\, MA\, 01240\, United States
CATEGORIES:Live Music
ATTACH;FMTTYPE=image/jpeg:https://fireflylenox.com/wp-content/uploads/Misty-Blues_Gina_Jan20.jpg
END:VEVENT
BEGIN:VEVENT
DTSTART;TZID=America/New_York:20220611T190000
DTEND;TZID=America/New_York:20220611T220000
DTSTAMP:20260422T203833
CREATED:20220604T142134Z
LAST-MODIFIED:20220604T142134Z
UID:10000087-1654974000-1654984800@fireflylenox.com
SUMMARY:Amy Ryan Band
DESCRIPTION:The perfect blend of Country Blues mojo and urban blues and rock! \nWhen guitarist Richard Green heard Amy Ryan’s solo performances in New York’s Capital Region\, he saw an opportunity to combine his own blues guitar chops with a gusty female singer and the potential to create a great blues band. An early iteration of a group came together quickly the musical experiment was successful enough that the Amy Ryan Band was soon born. \nMelding together Amy’s country blues mojo with Richards urban blues and rock sensibilities\, this musical partnership is rounded out by the addition of bassist Steve Dietemann\, drummer Al Bauman and Ed Stein on keyboards\, all of whom contribute greatly to the success of the band with their own experiences with jazz\, funk\, and rock. \nWith a repertoire that includes band adaptations of Amy’s self-penned solo tunes\, newly minted originals\, and select covers\, the Amy Ryan Band rocks the blues!
URL:https://fireflylenox.com/event/amy-ryan-band-7/
LOCATION:Firefly Gastropub\, 71 Church Street\, Lenox\, MA\, 01240\, United States
CATEGORIES:Live Music
ATTACH;FMTTYPE=image/jpeg:https://fireflylenox.com/wp-content/uploads/Amy-Ryan-Band_16-9.jpg
END:VEVENT
BEGIN:VEVENT
DTSTART;TZID=America/New_York:20220617T190000
DTEND;TZID=America/New_York:20220617T190000
DTSTAMP:20260422T203833
CREATED:20220604T142625Z
LAST-MODIFIED:20220604T142625Z
UID:10000088-1655492400-1655492400@fireflylenox.com
SUMMARY:Misty Blues
DESCRIPTION:Band founder and lead singer\, Gina Coleman\, entered the music scene in the early ’90s as the lead singer of the folk/rock group Cole-Connection. It wasn’t until 1999 when she played a gospel singer in the Williamstown Theatre Festival production of A Raisin In The Sun that she was steered down the path of blues. \nMisty Blues pays homage to the older blues made popular by the bold and brassy women of its time\, while still paying respect to classic male artists of the ’20s\, ’30s\, and ’40s. The band hasn’t completely abandoned their musical roots; they have been known to perform classic rock and folk tunes infused with a healthy dose of the blues. Over the years\, Misty Blues has produced ten albums. Today the core members include Gina Coleman\, Seth Fleischmann\, Bill Patriquin\, Ben Kohn\, Rob Tatten\, and Aaron Dean.
URL:https://fireflylenox.com/event/misty-blues-3/
LOCATION:Firefly Gastropub\, 71 Church Street\, Lenox\, MA\, 01240\, United States
CATEGORIES:Live Music
ATTACH;FMTTYPE=image/jpeg:https://fireflylenox.com/wp-content/uploads/Misty-Blues_Gina_Jan20.jpg
END:VEVENT
BEGIN:VEVENT
DTSTART;TZID=America/New_York:20220618T190000
DTEND;TZID=America/New_York:20220618T190000
DTSTAMP:20260422T203833
CREATED:20220605T195901Z
LAST-MODIFIED:20220605T195901Z
UID:10000089-1655578800-1655578800@fireflylenox.com
SUMMARY:Wanda Houston
DESCRIPTION:A Dynamic Quartet Featuring Rhythm\, Blues\, Jazz & Soul from the 30s through the 70s. \nWanda Houston is a professional singer\, actress\, and song stylist who has traveled the stages of the world searching for the perfect song and performance. Her travels brought her to The Berkshires in 2001 where she has continued to “search” in Musical Theatre\, Jazz\, Gospel\, R&B\, Blues\, Folk\, and Rock-‘n-Roll. \nSee what the buzz is all about!
URL:https://fireflylenox.com/event/wanda-houston-4/
LOCATION:Firefly Gastropub\, 71 Church Street\, Lenox\, MA\, 01240\, United States
CATEGORIES:Live Music
ATTACH;FMTTYPE=image/jpeg:https://fireflylenox.com/wp-content/uploads/Wanda-Houston_16-9.jpg
END:VEVENT
BEGIN:VEVENT
DTSTART;TZID=America/New_York:20220624T190000
DTEND;TZID=America/New_York:20220624T190000
DTSTAMP:20260422T203833
CREATED:20220605T200501Z
LAST-MODIFIED:20220605T200501Z
UID:10000090-1656097200-1656097200@fireflylenox.com
SUMMARY:Misty Blues
DESCRIPTION:Band founder and lead singer\, Gina Coleman\, entered the music scene in the early ’90s as the lead singer of the folk/rock group Cole-Connection. It wasn’t until 1999 when she played a gospel singer in the Williamstown Theatre Festival production of A Raisin In The Sun that she was steered down the path of blues. \nMisty Blues pays homage to the older blues made popular by the bold and brassy women of its time\, while still paying respect to classic male artists of the ’20s\, ’30s\, and ’40s. The band hasn’t completely abandoned their musical roots; they have been known to perform classic rock and folk tunes infused with a healthy dose of the blues. Over the years\, Misty Blues has produced ten albums. Today the core members include Gina Coleman\, Seth Fleischmann\, Bill Patriquin\, Ben Kohn\, Rob Tatten\, and Aaron Dean.
URL:https://fireflylenox.com/event/misty-blues-4/
LOCATION:Firefly Gastropub\, 71 Church Street\, Lenox\, MA\, 01240\, United States
CATEGORIES:Live Music
ATTACH;FMTTYPE=image/jpeg:https://fireflylenox.com/wp-content/uploads/Misty-Blues_Gina_Jan20.jpg
END:VEVENT
BEGIN:VEVENT
DTSTART;TZID=America/New_York:20220625T190000
DTEND;TZID=America/New_York:20220625T220000
DTSTAMP:20260422T203833
CREATED:20220605T200702Z
LAST-MODIFIED:20220605T200702Z
UID:10000091-1656183600-1656194400@fireflylenox.com
SUMMARY:Hot Sauce
DESCRIPTION:Top off your Saturday night with groove and funk spins on the classics with Hot Sauce. Join us on the dance floor or just enjoy listening to our takes on Stevie Wonder\, Marvin Gaye\, John Scofield\, and more! \nLet’s groove!
URL:https://fireflylenox.com/event/hot-sauce-5/
LOCATION:Firefly Gastropub\, 71 Church Street\, Lenox\, MA\, 01240\, United States
CATEGORIES:Live Music
ATTACH;FMTTYPE=image/jpeg:https://fireflylenox.com/wp-content/uploads/hot-sauce-update-photo__-e1650466475846.jpeg
END:VEVENT
END:VCALENDAR