BEGIN:VCALENDAR
VERSION:2.0
PRODID:-//Firefly Gastropub - ECPv6.15.20//NONSGML v1.0//EN
CALSCALE:GREGORIAN
METHOD:PUBLISH
X-WR-CALNAME:Firefly Gastropub
X-ORIGINAL-URL:https://fireflylenox.com
X-WR-CALDESC:Events for Firefly Gastropub
REFRESH-INTERVAL;VALUE=DURATION:PT1H
X-Robots-Tag:noindex
X-PUBLISHED-TTL:PT1H
BEGIN:VTIMEZONE
TZID:America/New_York
BEGIN:DAYLIGHT
TZOFFSETFROM:-0500
TZOFFSETTO:-0400
TZNAME:EDT
DTSTART:20210314T070000
END:DAYLIGHT
BEGIN:STANDARD
TZOFFSETFROM:-0400
TZOFFSETTO:-0500
TZNAME:EST
DTSTART:20211107T060000
END:STANDARD
BEGIN:DAYLIGHT
TZOFFSETFROM:-0500
TZOFFSETTO:-0400
TZNAME:EDT
DTSTART:20220313T070000
END:DAYLIGHT
BEGIN:STANDARD
TZOFFSETFROM:-0400
TZOFFSETTO:-0500
TZNAME:EST
DTSTART:20221106T060000
END:STANDARD
BEGIN:DAYLIGHT
TZOFFSETFROM:-0500
TZOFFSETTO:-0400
TZNAME:EDT
DTSTART:20230312T070000
END:DAYLIGHT
BEGIN:STANDARD
TZOFFSETFROM:-0400
TZOFFSETTO:-0500
TZNAME:EST
DTSTART:20231105T060000
END:STANDARD
END:VTIMEZONE
BEGIN:VEVENT
DTSTART;TZID=America/New_York:20220506T190000
DTEND;TZID=America/New_York:20220506T220000
DTSTAMP:20260422T221107
CREATED:20220427T204146Z
LAST-MODIFIED:20220427T204146Z
UID:10000067-1651863600-1651874400@fireflylenox.com
SUMMARY:The Misty Blues band
DESCRIPTION:Band founder and lead singer\, Gina Coleman\, entered the music scene in the early ’90s as the lead singer of the folk/rock group Cole-Connection. It wasn’t until 1999 when she played a gospel singer in the Williamstown Theatre Festival production of A Raisin In The Sun that she was steered down the path of blues. \nMisty Blues pays homage to the older blues made popular by the bold and brassy women of its time\, while still paying respect to classic male artists of the ’20s\, ’30s\, and ’40s. The band hasn’t completely abandoned their musical roots; they have been known to perform classic rock and folk tunes infused with a healthy dose of the blues. Over the years\, Misty Blues has produced ten albums. Today the core members include Gina Coleman\, Seth Fleischmann\, Bill Patriquin\, Ben Kohn\, Rob Tatten\, and Aaron Dean.
URL:https://fireflylenox.com/event/the-misty-blues-band-8/
LOCATION:Firefly Gastropub\, 71 Church Street\, Lenox\, MA\, 01240\, United States
CATEGORIES:Live Music
ATTACH;FMTTYPE=image/jpeg:https://fireflylenox.com/wp-content/uploads/Misty-Blues_Gina_Jan20.jpg
END:VEVENT
BEGIN:VEVENT
DTSTART;TZID=America/New_York:20220507T190000
DTEND;TZID=America/New_York:20220507T220000
DTSTAMP:20260422T221107
CREATED:20220427T204618Z
LAST-MODIFIED:20220603T221052Z
UID:10000004-1651950000-1651960800@fireflylenox.com
SUMMARY:BTUs
DESCRIPTION:Berkshire County’s favorite rock-jazz-blues band! \nIt’s been said that the BTUs “rock the blues—there’s no better way to say it! Their soulful vocals and killer guitar point the way to solid grooves that connect the band to the audience and make everyone feel the powerful vibration of the blues together.” We have to say we agree! \nThis Berkshire institution includes Steve Ide\, Bob MacVeety\, Rob Putnam\, and Conor Meehan—all of whom know how to rock the house! \nJoin us and get your groove on!
URL:https://fireflylenox.com/event/btus-3/
LOCATION:Firefly Gastropub\, 71 Church Street\, Lenox\, MA\, 01240\, United States
CATEGORIES:Live Music
ATTACH;FMTTYPE=image/jpeg:https://fireflylenox.com/wp-content/uploads/BTUs_feature.jpg
END:VEVENT
BEGIN:VEVENT
DTSTART;TZID=America/New_York:20220513T190000
DTEND;TZID=America/New_York:20220513T220000
DTSTAMP:20260422T221107
CREATED:20220427T204837Z
LAST-MODIFIED:20220427T204837Z
UID:10000008-1652468400-1652479200@fireflylenox.com
SUMMARY:Misty Blues Band
DESCRIPTION:Band founder and lead singer\, Gina Coleman\, entered the music scene in the early ’90s as the lead singer of the folk/rock group Cole-Connection. It wasn’t until 1999 when she played a gospel singer in the Williamstown Theatre Festival production of A Raisin In The Sun that she was steered down the path of blues. \nMisty Blues pays homage to the older blues made popular by the bold and brassy women of its time\, while still paying respect to classic male artists of the ’20s\, ’30s\, and ’40s. The band hasn’t completely abandoned their musical roots; they have been known to perform classic rock and folk tunes infused with a healthy dose of the blues. Over the years\, Misty Blues has produced ten albums. Today the core members include Gina Coleman\, Seth Fleischmann\, Bill Patriquin\, Ben Kohn\, Rob Tatten\, and Aaron Dean.
URL:https://fireflylenox.com/event/misty-blues-band/
LOCATION:Firefly Gastropub\, 71 Church Street\, Lenox\, MA\, 01240\, United States
CATEGORIES:Live Music
ATTACH;FMTTYPE=image/jpeg:https://fireflylenox.com/wp-content/uploads/Misty-Blues_Gina_Jan20.jpg
END:VEVENT
BEGIN:VEVENT
DTSTART;TZID=America/New_York:20220514T190000
DTEND;TZID=America/New_York:20220514T220000
DTSTAMP:20260422T221107
CREATED:20220427T205033Z
LAST-MODIFIED:20220427T205033Z
UID:10000009-1652554800-1652565600@fireflylenox.com
SUMMARY:Amy Ryan Band
DESCRIPTION:The perfect blend of Country Blues mojo and urban blues and rock! \nWhen guitarist Richard Green heard Amy Ryan’s solo performances in New York’s Capital Region\, he saw an opportunity to combine his own blues guitar chops with a gusty female singer and the potential to create a great blues band. An early iteration of a group came together quickly the musical experiment was successful enough that the Amy Ryan Band was soon born. \nMelding together Amy’s country blues mojo with Richards urban blues and rock sensibilities\, this musical partnership is rounded out by the addition of bassist Steve Dietemann\, drummer Al Bauman and Ed Stein on keyboards\, all of whom contribute greatly to the success of the band with their own experiences with jazz\, funk\, and rock. \nWith a repertoire that includes band adaptations of Amy’s self-penned solo tunes\, newly minted originals\, and select covers\, the Amy Ryan Band rocks the blues!
URL:https://fireflylenox.com/event/amy-ryan-band-6/
LOCATION:Firefly Gastropub\, 71 Church Street\, Lenox\, MA\, 01240\, United States
CATEGORIES:Live Music
ATTACH;FMTTYPE=image/jpeg:https://fireflylenox.com/wp-content/uploads/amy-ryan-band-.jpeg
END:VEVENT
BEGIN:VEVENT
DTSTART;TZID=America/New_York:20220520T190000
DTEND;TZID=America/New_York:20220520T220000
DTSTAMP:20260422T221107
CREATED:20220427T205242Z
LAST-MODIFIED:20220427T205242Z
UID:10000001-1653073200-1653084000@fireflylenox.com
SUMMARY:The Misty Blues Band
DESCRIPTION:Band founder and lead singer\, Gina Coleman\, entered the music scene in the early ’90s as the lead singer of the folk/rock group Cole-Connection. It wasn’t until 1999 when she played a gospel singer in the Williamstown Theatre Festival production of A Raisin In The Sun that she was steered down the path of blues. \nMisty Blues pays homage to the older blues made popular by the bold and brassy women of its time\, while still paying respect to classic male artists of the ’20s\, ’30s\, and ’40s. The band hasn’t completely abandoned their musical roots; they have been known to perform classic rock and folk tunes infused with a healthy dose of the blues. Over the years\, Misty Blues has produced ten albums. Today the core members include Gina Coleman\, Seth Fleischmann\, Bill Patriquin\, Ben Kohn\, Rob Tatten\, and Aaron Dean.
URL:https://fireflylenox.com/event/the-misty-blues-band-9/
LOCATION:Firefly Gastropub\, 71 Church Street\, Lenox\, MA\, 01240\, United States
CATEGORIES:Live Music
ATTACH;FMTTYPE=image/jpeg:https://fireflylenox.com/wp-content/uploads/Misty-Blues_Gina_Jan20.jpg
END:VEVENT
BEGIN:VEVENT
DTSTART;TZID=America/New_York:20220521T190000
DTEND;TZID=America/New_York:20220521T220000
DTSTAMP:20260422T221107
CREATED:20220427T205447Z
LAST-MODIFIED:20220427T205447Z
UID:10000002-1653159600-1653170400@fireflylenox.com
SUMMARY:Wanda Houston
DESCRIPTION:A Dynamic Quartet Featuring Rhythm\, Blues\, Jazz & Soul from the 30s through the 70s. \nWanda Houston is a professional singer\, actress\, and song stylist who has traveled the stages of the world searching for the perfect song and performance. Her travels brought her to The Berkshires in 2001 where she has continued to “search” in Musical Theatre\, Jazz\, Gospel\, R&B\, Blues\, Folk\, and Rock-‘n-Roll. \nSee what the buzz is all about!
URL:https://fireflylenox.com/event/wanda-houston-3/
LOCATION:Firefly Gastropub\, 71 Church Street\, Lenox\, MA\, 01240\, United States
CATEGORIES:Live Music
ATTACH;FMTTYPE=image/jpeg:https://fireflylenox.com/wp-content/uploads/Wanda-Houston_16-9.jpg
END:VEVENT
BEGIN:VEVENT
DTSTART;TZID=America/New_York:20220527T190000
DTEND;TZID=America/New_York:20220527T220000
DTSTAMP:20260422T221107
CREATED:20220427T205655Z
LAST-MODIFIED:20220427T205655Z
UID:10000003-1653678000-1653688800@fireflylenox.com
SUMMARY:The Misty Blues Band
DESCRIPTION:Band founder and lead singer\, Gina Coleman\, entered the music scene in the early ’90s as the lead singer of the folk/rock group Cole-Connection. It wasn’t until 1999 when she played a gospel singer in the Williamstown Theatre Festival production of A Raisin In The Sun that she was steered down the path of blues. \nMisty Blues pays homage to the older blues made popular by the bold and brassy women of its time\, while still paying respect to classic male artists of the ’20s\, ’30s\, and ’40s. The band hasn’t completely abandoned their musical roots; they have been known to perform classic rock and folk tunes infused with a healthy dose of the blues. Over the years\, Misty Blues has produced ten albums. Today the core members include Gina Coleman\, Seth Fleischmann\, Bill Patriquin\, Ben Kohn\, Rob Tatten\, and Aaron Dean.
URL:https://fireflylenox.com/event/the-misty-blues-band-10/
LOCATION:Firefly Gastropub\, 71 Church Street\, Lenox\, MA\, 01240\, United States
CATEGORIES:Live Music
ATTACH;FMTTYPE=image/jpeg:https://fireflylenox.com/wp-content/uploads/Misty-Blues_Gina_Jan20.jpg
END:VEVENT
BEGIN:VEVENT
DTSTART;TZID=America/New_York:20220528T190000
DTEND;TZID=America/New_York:20220528T220000
DTSTAMP:20260422T221107
CREATED:20220427T205923Z
LAST-MODIFIED:20220427T205923Z
UID:10000007-1653764400-1653775200@fireflylenox.com
SUMMARY:Hot Sauce
DESCRIPTION:Top off your Saturday night with groove and funk spins on the classics with Hot Sauce. Join us on the dance floor or just enjoy listening to our takes on Stevie Wonder\, Marvin Gaye\, John Scofield\, and more! \nLet’s groove!
URL:https://fireflylenox.com/event/hot-sauce-4/
LOCATION:Firefly Gastropub\, 71 Church Street\, Lenox\, MA\, 01240\, United States
CATEGORIES:Live Music
ATTACH;FMTTYPE=image/jpeg:https://fireflylenox.com/wp-content/uploads/hot-sauce-update-photo__-e1650466475846.jpeg
END:VEVENT
END:VCALENDAR