BEGIN:VCALENDAR
VERSION:2.0
PRODID:-//Firefly Gastropub - ECPv6.15.20//NONSGML v1.0//EN
CALSCALE:GREGORIAN
METHOD:PUBLISH
X-ORIGINAL-URL:https://fireflylenox.com
X-WR-CALDESC:Events for Firefly Gastropub
REFRESH-INTERVAL;VALUE=DURATION:PT1H
X-Robots-Tag:noindex
X-PUBLISHED-TTL:PT1H
BEGIN:VTIMEZONE
TZID:America/New_York
BEGIN:DAYLIGHT
TZOFFSETFROM:-0500
TZOFFSETTO:-0400
TZNAME:EDT
DTSTART:20250309T070000
END:DAYLIGHT
BEGIN:STANDARD
TZOFFSETFROM:-0400
TZOFFSETTO:-0500
TZNAME:EST
DTSTART:20251102T060000
END:STANDARD
BEGIN:DAYLIGHT
TZOFFSETFROM:-0500
TZOFFSETTO:-0400
TZNAME:EDT
DTSTART:20260308T070000
END:DAYLIGHT
BEGIN:STANDARD
TZOFFSETFROM:-0400
TZOFFSETTO:-0500
TZNAME:EST
DTSTART:20261101T060000
END:STANDARD
BEGIN:DAYLIGHT
TZOFFSETFROM:-0500
TZOFFSETTO:-0400
TZNAME:EDT
DTSTART:20270314T070000
END:DAYLIGHT
BEGIN:STANDARD
TZOFFSETFROM:-0400
TZOFFSETTO:-0500
TZNAME:EST
DTSTART:20271107T060000
END:STANDARD
END:VTIMEZONE
BEGIN:VEVENT
DTSTART;TZID=America/New_York:20260327T190000
DTEND;TZID=America/New_York:20260327T220000
DTSTAMP:20260419T121325
CREATED:20251023T202811Z
LAST-MODIFIED:20251023T202811Z
UID:10000414-1774638000-1774648800@fireflylenox.com
SUMMARY:Amy Ryan Band
DESCRIPTION:The perfect blend of Country Blues mojo and urban blues and rock! \nWhen guitarist Richard Green heard Amy Ryan’s solo performances in New York’s Capital Region\, he saw an opportunity to combine his own blues guitar chops with a gusty female singer and the potential to create a great blues band. An early iteration of a group came together quickly. The musical experiment was successful enough that the Amy Ryan Band was soon born. \nMelding together Amy’s country blues mojo with Richard’s urban blues and rock sensibilities\, this musical partnership is rounded out by the addition of bassist Steve Dietemann\, drummer Al Bauman and Ed Stein on keyboards\, all of whom contribute greatly to the success of the band with their own experiences with jazz\, funk\, and rock. \nWith a repertoire that includes band adaptations of Amy’s self-penned solo tunes\, newly minted originals\, and select covers\, the Amy Ryan Band rocks the blues!
URL:https://fireflylenox.com/event/amy-ryan-band-17/2026-03-27/
LOCATION:Firefly Gastropub\, 71 Church Street\, Lenox\, MA\, 01240\, United States
CATEGORIES:Live Music
ATTACH;FMTTYPE=image/jpeg:https://fireflylenox.com/wp-content/uploads/amy-ryan-band-.jpeg
END:VEVENT
END:VCALENDAR